BEGIN:VCALENDAR
VERSION:2.0
PRODID:-//befriendersbozeman.org//NONSGML kigkonsult.se iCalcreator 2.30.10
 //
CALSCALE:GREGORIAN
METHOD:PUBLISH
UID:21a4132d-3cc9-4bef-92ae-785b0956d3c1
X-WR-CALDESC:Please join the Befrienders Lunch Bunch on the 3rd Wednesday o
 f every month at the Bozeman Senior Center\, 12-1 pm. We have a large tabl
 e where you can meet other Befrienders seniors\, volunteers\, staff\, and 
 board members. Lunch is subsidized by Befrienders - seniors pay $3 and vol
 unteers pay $5 for a delicious lunch served at the Bozeman Senior Center d
 ining room. We have good fun and great conversations!
X-WR-RELCALID:0abbbda06e4976198c780811c6726f9a
X-WR-TIMEZONE:America/Denver
BEGIN:VTIMEZONE
TZID:America/Denver
BEGIN:STANDARD
TZNAME:MST
DTSTART:20251102T020000
TZOFFSETFROM:-0600
TZOFFSETTO:-0700
RDATE:20261101T020000
RDATE:20271107T020000
END:STANDARD
BEGIN:DAYLIGHT
TZNAME:MDT
DTSTART:20260308T020000
TZOFFSETFROM:-0700
TZOFFSETTO:-0600
RDATE:20270314T020000
RDATE:20280312T020000
END:DAYLIGHT
END:VTIMEZONE
BEGIN:VEVENT
UID:28237eae-64f0-4ea7-9401-8363fbb02ebc
DTSTAMP:20260425T161828Z
DESCRIPTION:Please join the Befrienders Lunch Bunch on the 3rd Wednesday of
  every month at the Bozeman Senior Center\, 12-1 pm. We have a large table
  where you can meet other Befrienders seniors\, volunteers\, staff\, and b
 oard members. Lunch is subsidized by Befrienders - seniors pay $3 and volu
 nteers pay $5 for a delicious lunch served at the Bozeman Senior Center di
 ning room. We have good fun and great conversations!
DTSTART;TZID=America/Denver:20260916T120000
DTEND;TZID=America/Denver:20260916T130000
LOCATION:Bozeman Senior Center\, 807 N Tracy Ave\, Bozeman\, MT 59715
SUMMARY:Befrienders Monthly Lunch
END:VEVENT
END:VCALENDAR
