BEGIN:VCALENDAR
VERSION:2.0
PRODID:-//befriendersbozeman.org//NONSGML kigkonsult.se iCalcreator 2.30.10
 //
CALSCALE:GREGORIAN
METHOD:PUBLISH
UID:8dc86b58-8819-4d29-a457-ea824ad44b57
X-WR-CALDESC:Join us for a night of laughter\, luck\, and community. Enjoy 
 10 exciting bingo games with fantastic prizes\, $20-50/50 raffle\, $5-Head
 s or Tails\, plus a silent auction filled with incredible items. Every sho
 ut of 'BINGO!' helps support seniors in our community. Get Your Ticket Now
 ! $30 per ticket for Pizza\, Games\, and Fun!
X-WR-RELCALID:2e26cad9ca5bc608e67118f37f967604
X-WR-TIMEZONE:America/Denver
BEGIN:VTIMEZONE
TZID:America/Denver
BEGIN:STANDARD
TZNAME:MST
DTSTART:20251102T020000
TZOFFSETFROM:-0600
TZOFFSETTO:-0700
RDATE:20261101T020000
END:STANDARD
BEGIN:DAYLIGHT
TZNAME:MDT
DTSTART:20250309T020000
TZOFFSETFROM:-0700
TZOFFSETTO:-0600
RDATE:20260308T020000
RDATE:20270314T020000
END:DAYLIGHT
END:VTIMEZONE
BEGIN:VEVENT
UID:7313a31e-d734-4549-ab93-8910a6c5b95c
DTSTAMP:20260425T123945Z
DESCRIPTION:Join us for a night of laughter\, luck\, and community. Enjoy 1
 0 exciting bingo games with fantastic prizes\, $20-50/50 raffle\, $5-Heads
  or Tails\, plus a silent auction filled with incredible items. Every shou
 t of 'BINGO!' helps support seniors in our community. Get Your Ticket Now!
  $30 per ticket for Pizza\, Games\, and Fun!
DTSTART;TZID=America/Denver:20260110T170000
DTEND;TZID=America/Denver:20260110T213000
LOCATION:American Legion Post 87\, 218 E Main St\, Manhattan\, MT 59741 US
SUMMARY:Befrienders Bingo Fundraiser
END:VEVENT
END:VCALENDAR
