BEGIN:VCALENDAR
VERSION:2.0
PRODID:-//befriendersbozeman.org//NONSGML kigkonsult.se iCalcreator 2.30.10
 //
CALSCALE:GREGORIAN
METHOD:PUBLISH
UID:cb91aee0-08e4-4695-89b4-1255540ed332
X-WR-CALDESC:Please join the Befrienders Lunch Bunch on the 3rd Wednesday o
 f every month at the Bozeman Senior Center\, 12-1 pm. We have a large tabl
 e where you can meet other Befrienders seniors\, volunteers\, staff\, and 
 board members. Lunch is subsidized by Befrienders - seniors pay $3 and vol
 unteers pay $5 for a delicious lunch served at the Bozeman Senior Center d
 ining room. We have good fun and great conversations!
X-WR-RELCALID:532f7e842ae1e1319d36740fb25424a4
X-WR-TIMEZONE:America/Denver
BEGIN:VTIMEZONE
TZID:America/Denver
BEGIN:STANDARD
TZNAME:MST
DTSTART:20241103T020000
TZOFFSETFROM:-0600
TZOFFSETTO:-0700
RDATE:20251102T020000
RDATE:20261101T020000
END:STANDARD
BEGIN:DAYLIGHT
TZNAME:MDT
DTSTART:20250309T020000
TZOFFSETFROM:-0700
TZOFFSETTO:-0600
RDATE:20260308T020000
RDATE:20270314T020000
END:DAYLIGHT
END:VTIMEZONE
BEGIN:VEVENT
UID:2f77cca4-a7fd-4736-93aa-731d9abcfd9b
DTSTAMP:20260425T173643Z
DESCRIPTION:Please join the Befrienders Lunch Bunch on the 3rd Wednesday of
  every month at the Bozeman Senior Center\, 12-1 pm. We have a large table
  where you can meet other Befrienders seniors\, volunteers\, staff\, and b
 oard members. Lunch is subsidized by Befrienders - seniors pay $3 and volu
 nteers pay $5 for a delicious lunch served at the Bozeman Senior Center di
 ning room. We have good fun and great conversations!
DTSTART;TZID=America/Denver:20251015T120000
DTEND;TZID=America/Denver:20251015T130000
LOCATION:Bozeman Senior Center\, 807 N Tracy Ave\, Bozeman\, MT 59715
SUMMARY:Befrienders Monthly Lunch
END:VEVENT
END:VCALENDAR
