BEGIN:VCALENDAR
VERSION:2.0
PRODID:-//befriendersbozeman.org//NONSGML kigkonsult.se iCalcreator 2.30.10
 //
CALSCALE:GREGORIAN
METHOD:PUBLISH
UID:9aa5e9d2-0e12-4828-8566-2a966b44dae0
X-WR-CALDESC:Free Choral Concert in Manhattan\nSaturday\, June 21\, 2:30-4 
 pm at the Manhattan High School Gym\nWe’re thrilled to once again partner 
 with the Bozeman Symphony for our second annual Free Concert in Manhattan—
 a celebration of Befrienders’ commitment to fostering intergenerational co
 nnections through music!\n\nThis special event coincides with World Make M
 usic Day and will be part of the Circle Singing Project\, placing our Manh
 attan concert alongside performances in cities like Boston and New York on
  Make Music America's national event page!\n\nThe concert will feature a v
 oice trio in the first half\, followed by an interactive second half where
  you become part of the music. It’s a joyful\, participatory experience th
 at brings all generations together.\n\nWe hope you can join us for this me
 aningful—and musical—afternoon!
X-WR-RELCALID:c4f0f67c2f1fd65061ee5b084d131c39
X-WR-TIMEZONE:America/Denver
BEGIN:VTIMEZONE
TZID:America/Denver
BEGIN:STANDARD
TZNAME:MST
DTSTART:20241103T020000
TZOFFSETFROM:-0600
TZOFFSETTO:-0700
RDATE:20251102T020000
RDATE:20261101T020000
END:STANDARD
BEGIN:DAYLIGHT
TZNAME:MDT
DTSTART:20250309T020000
TZOFFSETFROM:-0700
TZOFFSETTO:-0600
RDATE:20260308T020000
END:DAYLIGHT
END:VTIMEZONE
BEGIN:VEVENT
UID:a4403044-123f-425c-abe7-a218ac9c578c
DTSTAMP:20260425T235034Z
DESCRIPTION:Free Choral Concert in Manhattan\nSaturday\, June 21\, 2:30-4 p
 m at the Manhattan High School Gym\nWe’re thrilled to once again partner w
 ith the Bozeman Symphony for our second annual Free Concert in Manhattan—a
  celebration of Befrienders’ commitment to fostering intergenerational con
 nections through music!\n\nThis special event coincides with World Make Mu
 sic Day and will be part of the Circle Singing Project\, placing our Manha
 ttan concert alongside performances in cities like Boston and New York on 
 Make Music America's national event page!\n\nThe concert will feature a vo
 ice trio in the first half\, followed by an interactive second half where 
 you become part of the music. It’s a joyful\, participatory experience tha
 t brings all generations together.\n\nWe hope you can join us for this mea
 ningful—and musical—afternoon!
DTSTART;TZID=America/Denver:20250621T143000
DTEND;TZID=America/Denver:20250621T160000
LOCATION:200 W Fulton Ave\, Manhattan \, MT 59741 US
SUMMARY:Bozeman Symphony Free Community Concert
END:VEVENT
END:VCALENDAR
