BEGIN:VCALENDAR
VERSION:2.0
PRODID:-//befriendersbozeman.org//NONSGML kigkonsult.se iCalcreator 2.30.10
 //
CALSCALE:GREGORIAN
METHOD:PUBLISH
UID:10093f7c-bdae-4692-8186-3d35cffadcce
X-WR-CALDESC:Join us for a joyful day at our Senior Prom—a special gatherin
 g filled with laughter\, connection\, and fun! Enjoy raffle prizes\, trivi
 a\, and an engaging session with an improv instructor. There is no need to
  dress up or dance—just bring yourself and get ready for a great time! We’
 re excited to see our wonderful volunteers and seniors unite for this unfo
 rgettable event.
X-WR-RELCALID:aa9c9165bd6c4ef5233516c8722bbdd8
X-WR-TIMEZONE:America/Denver
BEGIN:VTIMEZONE
TZID:America/Denver
BEGIN:STANDARD
TZNAME:MST
DTSTART:20241103T020000
TZOFFSETFROM:-0600
TZOFFSETTO:-0700
RDATE:20251102T020000
END:STANDARD
BEGIN:DAYLIGHT
TZNAME:MDT
DTSTART:20250309T020000
TZOFFSETFROM:-0700
TZOFFSETTO:-0600
RDATE:20260308T020000
END:DAYLIGHT
END:VTIMEZONE
BEGIN:VEVENT
UID:657c14ff-bbe8-4e2b-ac39-685ac02e176c
DTSTAMP:20260426T031238Z
DESCRIPTION:Join us for a joyful day at our Senior Prom—a special gathering
  filled with laughter\, connection\, and fun! Enjoy raffle prizes\, trivia
 \, and an engaging session with an improv instructor. There is no need to 
 dress up or dance—just bring yourself and get ready for a great time! We’r
 e excited to see our wonderful volunteers and seniors unite for this unfor
 gettable event.
DTSTART;TZID=America/Denver:20250426T130000
DTEND;TZID=America/Denver:20250426T160000
LOCATION:807 N Tracy Ave \, Bozeman \, MT 59715 US
SUMMARY:Befrienders Senior Prom
END:VEVENT
END:VCALENDAR
